BEGIN:VCALENDAR
PRODID:-//eluceo/ical//2.0/EN
VERSION:2.0
CALSCALE:GREGORIAN
BEGIN:VEVENT
UID:event-1048
DTSTAMP:20260421T184737Z
SUMMARY:Lustrum Rally Weekend
DESCRIPTION:Dear adventure enthousiasts\, get ready for this year’s speci
 al Lustrum Rally Weekend! We will be venturing to an unknown destination 
 outside of the Netherlands (or maybe not\, who knows…). The trip will ki
 ck off on the 9th of May and conclude on the 10th. Driving long and far ca
 n be lonely… So\, assemble your team of 4-5 friends with whom you will 
 be driving in one car! Everyone in your team has to sign up individually a
 nd each team must arrange a car themselves. Given you cannot find a team\,
  or if your team has some empty car seats\, send us an e-mail! And perhaps
  we can work something out. The ticket price is €30 per person and will 
 include an overnight stay\, a great dinner meal\, and compensation for fu
 el (up to 50 euros)! You don’t want to miss out! We guarantee this weeke
 nd will be one you will never forget! Can you already picture it? Laughter
  from your friends filling the car\, your favorite tunes humming in the ba
 ckground\, and the pure freedom of roaming the open roads. Don’t hesitat
 e\, tell your friends and sign up! There are limited spots available so ke
 ep a close eye on the socials.  If you have any questions\, please feel f
 ree to send us an email at luco@faector.nl  
DTSTART:20260509T080000Z
DTEND:20260510T110000Z
LOCATION:Surprise
END:VEVENT
BEGIN:VTIMEZONE
TZID:UTC
BEGIN:STANDARD
DTSTART:20260509T080000
TZNAME:UTC
TZOFFSETTO:+0000
TZOFFSETFROM:+0000
END:STANDARD
END:VTIMEZONE
END:VCALENDAR
