BEGIN:VCALENDAR
PRODID:-//eluceo/ical//2.0/EN
VERSION:2.0
CALSCALE:GREGORIAN
BEGIN:VEVENT
UID:event-685
DTSTAMP:20260422T035903Z
SUMMARY:Committee Interest Drink I
DESCRIPTION:  Every year FAECTOR hosts multiple events and delivers a big 
 number of publications to their members: From social drinks and parties\, 
 to publications such as the Estimator\, or formal career events with many 
 employers. This can only be made possible with the help of our highly appr
 eciated active members who support the board of FAECTOR in creating great 
 events for our members. In September 2022\, the following committees open 
 up for application: Alumni Committee Business Trip Committee City Trip Com
 mittee Eerstejaarscommissie Freshman Committee Estimator Committee FAECTOR
  Consultancy Project Committee Internal Activities Committee Marketing Com
 mittee   If you have any questions concerning the committees or want to k
 now more about being an active member at FAECTOR\, join us for the informa
 tion session on 26 August. Registrations for the committees close on 9 Se
 ptember 23:59. You can register for a committee here. The session will tak
 e start at 20:00 at APARTT. There will a presentation first and afterwards
 \, you can ask all your questions. Why should you become an Active Member?
  Becoming an Active Member is the best way to meet a lot of fellow student
 s in a short amount of time. Furthermore\, you get to join exclusive activ
 ities for Active Members: Active Members Day\, Active Members Weekend an
 d many more! Besides getting to know a lot of people and having the chance
  to participate in exclusive activities\, you will be able to develop your
  social\, organisational and teamwork skills and boost your CV!
DTSTART:20220826T180000Z
DTEND:20220826T200000Z
LOCATION:APARTT
END:VEVENT
BEGIN:VTIMEZONE
TZID:UTC
BEGIN:STANDARD
DTSTART:20220826T180000
TZNAME:UTC
TZOFFSETTO:+0000
TZOFFSETFROM:+0000
END:STANDARD
END:VTIMEZONE
END:VCALENDAR
